BEGIN:VCALENDAR
VERSION:2.0
PRODID:-//Capital Safety Services
CALSCALE:GREGORIAN
METHOD:PUBLISH
X-WR-CALNAME:Capital Safety Services
X-ORIGINAL-URL:https://www.capitalsafetyservices.com/calendar/osha-30-hour-construction-outreach-training-session-1-5/
X-WR-CALDESC:OSHA 30 Hour Construction Outreach Training &#8211; Session 1
BEGIN:VEVENT
DTSTART;TZID=America/Halifax:20231016T070000
DTEND;TZID=America/Halifax:20231017T160000
SUMMARY:OSHA 30 Hour Construction Outreach Training – Session 1
DESCRIPTION:
URL:https://www.capitalsafetyservices.com/calendar/osha-30-hour-construction-outreach-training-session-1-5/
LOCATION:
END:VEVENT
END:VCALENDAR
